Package: aracne.networks Version: 1.36.0 Command: /home/biocbuild/bbs-3.22-bioc/R/bin/R CMD build --keep-empty-dirs --no-resave-data aracne.networks StartedAt: 2025-11-20 11:08:54 -0500 (Thu, 20 Nov 2025) EndedAt: 2025-11-20 11:09:50 -0500 (Thu, 20 Nov 2025) EllapsedTime: 56.3 seconds RetCode: 0 Status: OK PackageFile: aracne.networks_1.36.0.tar.gz PackageFileSize: 203.3 MiB