Package: XhybCasneuf Version: 1.47.0 Command: /home/biocbuild/bbs-3.22-bioc/R/bin/R CMD INSTALL XhybCasneuf StartedAt: 2025-09-30 10:57:19 -0400 (Tue, 30 Sep 2025) EndedAt: 2025-09-30 10:57:33 -0400 (Tue, 30 Sep 2025) EllapsedTime: 13.1 seconds RetCode: 0 Status: OK