Package: WGSmapp Version: 1.21.0 Command: /home/biocbuild/bbs-3.22-bioc/R/bin/R CMD check --install=check:WGSmapp.install-out.txt --library=/home/biocbuild/bbs-3.22-bioc/R/site-library --timings WGSmapp_1.21.0.tar.gz StartedAt: 2025-10-21 13:19:27 -0400 (Tue, 21 Oct 2025) EndedAt: 2025-10-21 13:20:52 -0400 (Tue, 21 Oct 2025) EllapsedTime: 85.6 seconds RetCode: 0 Status: WARNINGS CheckDir: WGSmapp.Rcheck Warnings: 1