Package: TabulaMurisData Version: 1.27.0 Command: /home/biocbuild/bbs-3.22-bioc/R/bin/R CMD check --install=check:TabulaMurisData.install-out.txt --library=/home/biocbuild/bbs-3.22-bioc/R/site-library --timings TabulaMurisData_1.27.0.tar.gz StartedAt: 2025-10-02 13:06:47 -0400 (Thu, 02 Oct 2025) EndedAt: 2025-10-02 13:09:58 -0400 (Thu, 02 Oct 2025) EllapsedTime: 190.9 seconds RetCode: 0 Status: OK CheckDir: TabulaMurisData.Rcheck Warnings: 0