Package: SomatiCAData Version: 1.47.0 Command: /home/biocbuild/bbs-3.22-bioc/R/bin/R CMD check --install=check:SomatiCAData.install-out.txt --library=/home/biocbuild/bbs-3.22-bioc/R/site-library --timings SomatiCAData_1.47.0.tar.gz StartedAt: 2025-10-28 13:05:13 -0400 (Tue, 28 Oct 2025) EndedAt: 2025-10-28 13:07:38 -0400 (Tue, 28 Oct 2025) EllapsedTime: 145.9 seconds RetCode: 0 Status: WARNINGS CheckDir: SomatiCAData.Rcheck Warnings: 2