Package: SingleMoleculeFootprintingData Version: 1.17.0 Command: /home/biocbuild/bbs-3.22-bioc/R/bin/R CMD check --install=check:SingleMoleculeFootprintingData.install-out.txt --library=/home/biocbuild/bbs-3.22-bioc/R/site-library --timings SingleMoleculeFootprintingData_1.17.0.tar.gz StartedAt: 2025-10-02 13:04:02 -0400 (Thu, 02 Oct 2025) EndedAt: 2025-10-02 13:05:42 -0400 (Thu, 02 Oct 2025) EllapsedTime: 100.5 seconds RetCode: 0 Status: OK CheckDir: SingleMoleculeFootprintingData.Rcheck Warnings: 0