Package: SCLCBam Version: 1.41.0 Command: /home/biocbuild/bbs-3.22-bioc/R/bin/R CMD check --install=check:SCLCBam.install-out.txt --library=/home/biocbuild/bbs-3.22-bioc/R/site-library --timings SCLCBam_1.41.0.tar.gz StartedAt: 2025-10-09 13:05:11 -0400 (Thu, 09 Oct 2025) EndedAt: 2025-10-09 13:05:29 -0400 (Thu, 09 Oct 2025) EllapsedTime: 17.8 seconds RetCode: 0 Status: OK CheckDir: SCLCBam.Rcheck Warnings: 0