Package: RnBeads.hg38 Version: 1.41.1 Command: /home/biocbuild/bbs-3.22-bioc/R/bin/R CMD check --install=check:RnBeads.hg38.install-out.txt --library=/home/biocbuild/bbs-3.22-bioc/R/site-library --timings RnBeads.hg38_1.41.1.tar.gz StartedAt: 2025-09-25 12:59:18 -0400 (Thu, 25 Sep 2025) EndedAt: 2025-09-25 13:28:16 -0400 (Thu, 25 Sep 2025) EllapsedTime: 1738.5 seconds RetCode: 0 Status: WARNINGS CheckDir: RnBeads.hg38.Rcheck Warnings: 1