Package: RTCGA.clinical Version: 20151101.39.0 Command: /home/biocbuild/bbs-3.22-bioc/R/bin/R CMD check --install=check:RTCGA.clinical.install-out.txt --library=/home/biocbuild/bbs-3.22-bioc/R/site-library --timings RTCGA.clinical_20151101.39.0.tar.gz StartedAt: 2025-10-07 12:57:43 -0400 (Tue, 07 Oct 2025) EndedAt: 2025-10-07 12:59:23 -0400 (Tue, 07 Oct 2025) EllapsedTime: 100.4 seconds RetCode: 0 Status: WARNINGS CheckDir: RTCGA.clinical.Rcheck Warnings: 1