Package: RNAmodR.Data Version: 1.23.0 Maintainer: Felix G.M. Ernst MaintainerEmail: felix.gm.ernst at outlook.com git_url: https://git.bioconductor.org/packages/RNAmodR.Data git_branch: devel git_last_commit: 70cb6d0 git_last_commit_date: 2025-09-23 09:52:49 -0400 (Tue, 23 Sep 2025)