Package: RMassBankData Version: 1.47.0 Command: /home/biocbuild/bbs-3.22-bioc/R/bin/R CMD check --install=check:RMassBankData.install-out.txt --library=/home/biocbuild/bbs-3.22-bioc/R/site-library --timings RMassBankData_1.47.0.tar.gz StartedAt: 2025-10-16 12:54:58 -0400 (Thu, 16 Oct 2025) EndedAt: 2025-10-16 12:55:20 -0400 (Thu, 16 Oct 2025) EllapsedTime: 21.6 seconds RetCode: 0 Status: OK CheckDir: RMassBankData.Rcheck Warnings: 0