Package: PtH2O2lipids Version: 1.35.0 Command: /home/biocbuild/bbs-3.22-bioc/R/bin/R CMD check --install=check:PtH2O2lipids.install-out.txt --library=/home/biocbuild/bbs-3.22-bioc/R/site-library --timings PtH2O2lipids_1.35.0.tar.gz StartedAt: 2025-10-28 12:52:21 -0400 (Tue, 28 Oct 2025) EndedAt: 2025-10-28 12:58:31 -0400 (Tue, 28 Oct 2025) EllapsedTime: 369.7 seconds RetCode: 0 Status: WARNINGS CheckDir: PtH2O2lipids.Rcheck Warnings: 1