Package: PWMEnrich.Mmusculus.background Version: 4.43.0 Command: /home/biocbuild/bbs-3.22-bioc/R/bin/R CMD check --install=check:PWMEnrich.Mmusculus.background.install-out.txt --library=/home/biocbuild/bbs-3.22-bioc/R/site-library --timings PWMEnrich.Mmusculus.background_4.43.0.tar.gz StartedAt: 2025-10-14 12:51:51 -0400 (Tue, 14 Oct 2025) EndedAt: 2025-10-14 12:52:28 -0400 (Tue, 14 Oct 2025) EllapsedTime: 36.7 seconds RetCode: 0 Status: OK CheckDir: PWMEnrich.Mmusculus.background.Rcheck Warnings: 0