Package: NxtIRFdata Version: 1.15.0 Command: /home/biocbuild/bbs-3.22-bioc/R/bin/R CMD check --install=check:NxtIRFdata.install-out.txt --library=/home/biocbuild/bbs-3.22-bioc/R/site-library --timings NxtIRFdata_1.15.0.tar.gz StartedAt: 2025-10-28 12:48:50 -0400 (Tue, 28 Oct 2025) EndedAt: 2025-10-28 12:50:36 -0400 (Tue, 28 Oct 2025) EllapsedTime: 106.3 seconds RetCode: 0 Status: OK CheckDir: NxtIRFdata.Rcheck Warnings: 0