Package: NGScopyData Version: 1.29.0 Command: /home/biocbuild/bbs-3.22-bioc/R/bin/R CMD check --install=check:NGScopyData.install-out.txt --library=/home/biocbuild/bbs-3.22-bioc/R/site-library --timings NGScopyData_1.29.0.tar.gz StartedAt: 2025-09-30 12:49:51 -0400 (Tue, 30 Sep 2025) EndedAt: 2025-09-30 12:50:04 -0400 (Tue, 30 Sep 2025) EllapsedTime: 13.3 seconds RetCode: 0 Status: WARNINGS CheckDir: NGScopyData.Rcheck Warnings: 1