Package: MethylSeqData Version: 1.19.0 Command: /home/biocbuild/bbs-3.22-bioc/R/bin/R CMD check --install=check:MethylSeqData.install-out.txt --library=/home/biocbuild/bbs-3.22-bioc/R/site-library --timings MethylSeqData_1.19.0.tar.gz StartedAt: 2025-10-02 12:40:50 -0400 (Thu, 02 Oct 2025) EndedAt: 2025-10-02 12:44:41 -0400 (Thu, 02 Oct 2025) EllapsedTime: 230.8 seconds RetCode: 0 Status: OK CheckDir: MethylSeqData.Rcheck Warnings: 0