Package: MEDIPSData Version: 1.45.1 Command: /home/biocbuild/bbs-3.22-bioc/R/bin/R CMD check --install=check:MEDIPSData.install-out.txt --library=/home/biocbuild/bbs-3.22-bioc/R/site-library --timings MEDIPSData_1.45.1.tar.gz StartedAt: 2025-10-16 12:39:06 -0400 (Thu, 16 Oct 2025) EndedAt: 2025-10-16 12:39:44 -0400 (Thu, 16 Oct 2025) EllapsedTime: 37.7 seconds RetCode: 0 Status: WARNINGS CheckDir: MEDIPSData.Rcheck Warnings: 1