Package: LungCancerACvsSCCGEO Version: 1.45.0 Command: /home/biocbuild/bbs-3.22-bioc/R/bin/R CMD build --keep-empty-dirs --no-resave-data LungCancerACvsSCCGEO StartedAt: 2025-10-16 11:26:58 -0400 (Thu, 16 Oct 2025) EndedAt: 2025-10-16 11:30:27 -0400 (Thu, 16 Oct 2025) EllapsedTime: 209.0 seconds RetCode: 0 Status: OK PackageFile: LungCancerACvsSCCGEO_1.45.0.tar.gz PackageFileSize: 138.6 MiB