Package: LiebermanAidenHiC2009 Version: 0.47.0 Command: /home/biocbuild/bbs-3.22-bioc/R/bin/R CMD check --install=check:LiebermanAidenHiC2009.install-out.txt --library=/home/biocbuild/bbs-3.22-bioc/R/site-library --timings LiebermanAidenHiC2009_0.47.0.tar.gz StartedAt: 2025-10-07 12:35:37 -0400 (Tue, 07 Oct 2025) EndedAt: 2025-10-07 12:37:25 -0400 (Tue, 07 Oct 2025) EllapsedTime: 108.8 seconds RetCode: 0 Status: WARNINGS CheckDir: LiebermanAidenHiC2009.Rcheck Warnings: 2