Package: IlluminaDataTestFiles Version: 1.47.0 Command: /home/biocbuild/bbs-3.22-bioc/R/bin/R CMD check --install=check:IlluminaDataTestFiles.install-out.txt --library=/home/biocbuild/bbs-3.22-bioc/R/site-library --timings IlluminaDataTestFiles_1.47.0.tar.gz StartedAt: 2025-09-30 12:34:34 -0400 (Tue, 30 Sep 2025) EndedAt: 2025-09-30 12:34:45 -0400 (Tue, 30 Sep 2025) EllapsedTime: 10.3 seconds RetCode: 0 Status: OK CheckDir: IlluminaDataTestFiles.Rcheck Warnings: 0