Package: Illumina450ProbeVariants.db Version: 1.45.0 Command: /home/biocbuild/bbs-3.22-bioc/R/bin/R CMD check --install=check:Illumina450ProbeVariants.db.install-out.txt --library=/home/biocbuild/bbs-3.22-bioc/R/site-library --timings Illumina450ProbeVariants.db_1.45.0.tar.gz StartedAt: 2025-10-28 12:33:29 -0400 (Tue, 28 Oct 2025) EndedAt: 2025-10-28 12:33:48 -0400 (Tue, 28 Oct 2025) EllapsedTime: 18.6 seconds RetCode: 0 Status: OK CheckDir: Illumina450ProbeVariants.db.Rcheck Warnings: 0