Package: IHWpaper Version: 1.37.0 Command: /home/biocbuild/bbs-3.22-bioc/R/bin/R CMD check --install=check:IHWpaper.install-out.txt --library=/home/biocbuild/bbs-3.22-bioc/R/site-library --timings IHWpaper_1.37.0.tar.gz StartedAt: 2025-10-09 12:35:47 -0400 (Thu, 09 Oct 2025) EndedAt: 2025-10-09 12:44:28 -0400 (Thu, 09 Oct 2025) EllapsedTime: 520.8 seconds RetCode: 0 Status: OK CheckDir: IHWpaper.Rcheck Warnings: 0