Package: HumanAffyData Version: 1.35.0 Command: /home/biocbuild/bbs-3.22-bioc/R/bin/R CMD check --install=check:HumanAffyData.install-out.txt --library=/home/biocbuild/bbs-3.22-bioc/R/site-library --timings HumanAffyData_1.35.0.tar.gz StartedAt: 2025-10-02 12:33:21 -0400 (Thu, 02 Oct 2025) EndedAt: 2025-10-02 12:34:25 -0400 (Thu, 02 Oct 2025) EllapsedTime: 64.0 seconds RetCode: 0 Status: OK CheckDir: HumanAffyData.Rcheck Warnings: 0