Package: Hiiragi2013 Version: 1.45.3 Command: /home/biocbuild/bbs-3.22-bioc/R/bin/R CMD check --install=check:Hiiragi2013.install-out.txt --library=/home/biocbuild/bbs-3.22-bioc/R/site-library --timings Hiiragi2013_1.45.3.tar.gz StartedAt: 2025-10-14 12:30:03 -0400 (Tue, 14 Oct 2025) EndedAt: 2025-10-14 12:38:53 -0400 (Tue, 14 Oct 2025) EllapsedTime: 529.9 seconds RetCode: 0 Status: WARNINGS CheckDir: Hiiragi2013.Rcheck Warnings: 1