Package: HighlyReplicatedRNASeq Version: 1.21.0 Command: /home/biocbuild/bbs-3.22-bioc/R/bin/R CMD INSTALL HighlyReplicatedRNASeq StartedAt: 2025-10-16 11:01:13 -0400 (Thu, 16 Oct 2025) EndedAt: 2025-10-16 11:01:40 -0400 (Thu, 16 Oct 2025) EllapsedTime: 27.1 seconds RetCode: 0 Status: OK