Package: HighlyReplicatedRNASeq Version: 1.21.0 Command: /home/biocbuild/bbs-3.22-bioc/R/bin/R CMD build --keep-empty-dirs --no-resave-data HighlyReplicatedRNASeq StartedAt: 2025-10-16 11:23:20 -0400 (Thu, 16 Oct 2025) EndedAt: 2025-10-16 11:24:19 -0400 (Thu, 16 Oct 2025) EllapsedTime: 58.6 seconds RetCode: 0 Status: OK PackageFile: HighlyReplicatedRNASeq_1.21.0.tar.gz PackageFileSize: 468.5 KiB