Package: HiCDataLymphoblast Version: 1.45.0 Command: /home/biocbuild/bbs-3.22-bioc/R/bin/R CMD check --install=check:HiCDataLymphoblast.install-out.txt --library=/home/biocbuild/bbs-3.22-bioc/R/site-library --timings HiCDataLymphoblast_1.45.0.tar.gz StartedAt: 2025-10-09 12:32:08 -0400 (Thu, 09 Oct 2025) EndedAt: 2025-10-09 12:32:30 -0400 (Thu, 09 Oct 2025) EllapsedTime: 22.3 seconds RetCode: 0 Status: OK CheckDir: HiCDataLymphoblast.Rcheck Warnings: 0