Package: HarmanData Version: 1.37.0 Command: /home/biocbuild/bbs-3.22-bioc/R/bin/R CMD check --install=check:HarmanData.install-out.txt --library=/home/biocbuild/bbs-3.22-bioc/R/site-library --timings HarmanData_1.37.0.tar.gz StartedAt: 2025-10-28 12:27:18 -0400 (Tue, 28 Oct 2025) EndedAt: 2025-10-28 12:27:50 -0400 (Tue, 28 Oct 2025) EllapsedTime: 31.6 seconds RetCode: 0 Status: OK CheckDir: HarmanData.Rcheck Warnings: 0