Package: HMP16SData Version: 1.29.1 Command: /home/biocbuild/bbs-3.22-bioc/R/bin/R CMD check --install=check:HMP16SData.install-out.txt --library=/home/biocbuild/bbs-3.22-bioc/R/site-library --timings HMP16SData_1.29.1.tar.gz StartedAt: 2025-10-07 12:31:34 -0400 (Tue, 07 Oct 2025) EndedAt: 2025-10-07 12:38:34 -0400 (Tue, 07 Oct 2025) EllapsedTime: 419.3 seconds RetCode: 0 Status: OK CheckDir: HMP16SData.Rcheck Warnings: 0