Package: HCATonsilData Version: 1.7.0 Command: /home/biocbuild/bbs-3.22-bioc/R/bin/R CMD check --install=check:HCATonsilData.install-out.txt --library=/home/biocbuild/bbs-3.22-bioc/R/site-library --timings HCATonsilData_1.7.0.tar.gz StartedAt: 2025-10-02 12:28:08 -0400 (Thu, 02 Oct 2025) EndedAt: 2025-10-02 12:33:21 -0400 (Thu, 02 Oct 2025) EllapsedTime: 312.6 seconds RetCode: 0 Status: OK CheckDir: HCATonsilData.Rcheck Warnings: 0