Package: HCAData Version: 1.25.0 Command: /home/biocbuild/bbs-3.22-bioc/R/bin/R CMD check --install=check:HCAData.install-out.txt --library=/home/biocbuild/bbs-3.22-bioc/R/site-library --timings HCAData_1.25.0.tar.gz StartedAt: 2025-10-28 12:27:25 -0400 (Tue, 28 Oct 2025) EndedAt: 2025-10-28 12:33:29 -0400 (Tue, 28 Oct 2025) EllapsedTime: 364.1 seconds RetCode: 0 Status: OK CheckDir: HCAData.Rcheck Warnings: 0