Package: GIGSEAdata Version: 1.27.0 Command: /home/biocbuild/bbs-3.22-bioc/R/bin/R CMD check --install=check:GIGSEAdata.install-out.txt --library=/home/biocbuild/bbs-3.22-bioc/R/site-library --timings GIGSEAdata_1.27.0.tar.gz StartedAt: 2025-10-21 12:27:23 -0400 (Tue, 21 Oct 2025) EndedAt: 2025-10-21 12:27:43 -0400 (Tue, 21 Oct 2025) EllapsedTime: 19.7 seconds RetCode: 0 Status: WARNINGS CheckDir: GIGSEAdata.Rcheck Warnings: 1