Package: Fletcher2013b Version: 1.45.0 Command: /home/biocbuild/bbs-3.22-bioc/R/bin/R CMD check --install=check:Fletcher2013b.install-out.txt --library=/home/biocbuild/bbs-3.22-bioc/R/site-library --timings Fletcher2013b_1.45.0.tar.gz StartedAt: 2025-10-07 12:20:18 -0400 (Tue, 07 Oct 2025) EndedAt: 2025-10-07 12:24:10 -0400 (Tue, 07 Oct 2025) EllapsedTime: 231.3 seconds RetCode: 0 Status: WARNINGS CheckDir: Fletcher2013b.Rcheck Warnings: 1