Package: ELMER.data Version: 2.33.0 Command: /home/biocbuild/bbs-3.22-bioc/R/bin/R CMD INSTALL ELMER.data StartedAt: 2025-10-16 10:58:19 -0400 (Thu, 16 Oct 2025) EndedAt: 2025-10-16 10:58:27 -0400 (Thu, 16 Oct 2025) EllapsedTime: 8.0 seconds RetCode: 0 Status: OK