Package: EGSEAdata Version: 1.38.0 Maintainer: Monther Alhamdoosh MaintainerEmail: m.hamdoosh at gmail.com git_url: https://git.bioconductor.org/packages/EGSEAdata git_branch: RELEASE_3_22 git_last_commit: b03a3b9 git_last_commit_date: 2025-10-29 09:58:28 -0400 (Wed, 29 Oct 2025)