Package: DonaPLLP2013 Version: 1.47.0 Command: /home/biocbuild/bbs-3.22-bioc/R/bin/R CMD check --install=check:DonaPLLP2013.install-out.txt --library=/home/biocbuild/bbs-3.22-bioc/R/site-library --timings DonaPLLP2013_1.47.0.tar.gz StartedAt: 2025-10-02 12:15:53 -0400 (Thu, 02 Oct 2025) EndedAt: 2025-10-02 12:21:57 -0400 (Thu, 02 Oct 2025) EllapsedTime: 364.4 seconds RetCode: 0 Status: OK CheckDir: DonaPLLP2013.Rcheck Warnings: 0