Package: DNAZooData Version: 1.9.0 Command: /home/biocbuild/bbs-3.22-bioc/R/bin/R CMD check --install=check:DNAZooData.install-out.txt --library=/home/biocbuild/bbs-3.22-bioc/R/site-library --timings DNAZooData_1.9.0.tar.gz StartedAt: 2025-09-30 12:15:45 -0400 (Tue, 30 Sep 2025) EndedAt: 2025-09-30 12:19:01 -0400 (Tue, 30 Sep 2025) EllapsedTime: 195.8 seconds RetCode: 0 Status: OK CheckDir: DNAZooData.Rcheck Warnings: 0