Package: DExMAdata Version: 1.17.0 Command: /home/biocbuild/bbs-3.22-bioc/R/bin/R CMD check --install=check:DExMAdata.install-out.txt --library=/home/biocbuild/bbs-3.22-bioc/R/site-library --timings DExMAdata_1.17.0.tar.gz StartedAt: 2025-10-14 12:14:31 -0400 (Tue, 14 Oct 2025) EndedAt: 2025-10-14 12:15:07 -0400 (Tue, 14 Oct 2025) EllapsedTime: 36.0 seconds RetCode: 0 Status: OK CheckDir: DExMAdata.Rcheck Warnings: 0