Package: CytoMethIC Version: 1.5.0 Command: /home/biocbuild/bbs-3.22-bioc/R/bin/R CMD INSTALL CytoMethIC StartedAt: 2025-10-16 11:05:30 -0400 (Thu, 16 Oct 2025) EndedAt: 2025-10-16 11:06:01 -0400 (Thu, 16 Oct 2025) EllapsedTime: 30.6 seconds RetCode: 0 Status: OK