Package: CytoMethIC Version: 1.5.0 Command: /home/biocbuild/bbs-3.22-bioc/R/bin/R CMD check --install=check:CytoMethIC.install-out.txt --library=/home/biocbuild/bbs-3.22-bioc/R/site-library --timings CytoMethIC_1.5.0.tar.gz StartedAt: 2025-10-16 12:11:34 -0400 (Thu, 16 Oct 2025) EndedAt: 2025-10-16 12:18:40 -0400 (Thu, 16 Oct 2025) EllapsedTime: 426.1 seconds RetCode: 0 Status: OK CheckDir: CytoMethIC.Rcheck Warnings: 0