Package: CytoMethIC Version: 1.5.0 Command: /home/biocbuild/bbs-3.22-bioc/R/bin/R CMD build --keep-empty-dirs --no-resave-data CytoMethIC StartedAt: 2025-10-16 11:12:48 -0400 (Thu, 16 Oct 2025) EndedAt: 2025-10-16 11:14:28 -0400 (Thu, 16 Oct 2025) EllapsedTime: 99.9 seconds RetCode: 0 Status: OK PackageFile: CytoMethIC_1.5.0.tar.gz PackageFileSize: 6.487 MiB