Package: CoSIAdata Version: 1.9.1 Command: /home/biocbuild/bbs-3.22-bioc/R/bin/R CMD check --install=check:CoSIAdata.install-out.txt --library=/home/biocbuild/bbs-3.22-bioc/R/site-library --timings CoSIAdata_1.9.1.tar.gz StartedAt: 2025-10-28 12:07:54 -0400 (Tue, 28 Oct 2025) EndedAt: 2025-10-28 12:11:30 -0400 (Tue, 28 Oct 2025) EllapsedTime: 216.0 seconds RetCode: 0 Status: OK CheckDir: CoSIAdata.Rcheck Warnings: 0