Package: ChAMPdata Version: 2.41.0 Command: /home/biocbuild/bbs-3.22-bioc/R/bin/R CMD check --install=check:ChAMPdata.install-out.txt --library=/home/biocbuild/bbs-3.22-bioc/R/site-library --timings ChAMPdata_2.41.0.tar.gz StartedAt: 2025-10-21 12:06:44 -0400 (Tue, 21 Oct 2025) EndedAt: 2025-10-21 12:11:40 -0400 (Tue, 21 Oct 2025) EllapsedTime: 296.3 seconds RetCode: 0 Status: WARNINGS CheckDir: ChAMPdata.Rcheck Warnings: 1