Package: CLL Version: 1.49.0 Command: /home/biocbuild/bbs-3.22-bioc/R/bin/R CMD build --keep-empty-dirs --no-resave-data CLL StartedAt: 2025-10-16 11:09:36 -0400 (Thu, 16 Oct 2025) EndedAt: 2025-10-16 11:09:40 -0400 (Thu, 16 Oct 2025) EllapsedTime: 4.3 seconds RetCode: 0 Status: OK PackageFile: CLL_1.49.0.tar.gz PackageFileSize: 15.89 MiB