Package: Affymoe4302Expr Version: 1.47.0 Command: /home/biocbuild/bbs-3.22-bioc/R/bin/R CMD check --install=check:Affymoe4302Expr.install-out.txt --library=/home/biocbuild/bbs-3.22-bioc/R/site-library --timings Affymoe4302Expr_1.47.0.tar.gz StartedAt: 2025-10-02 12:01:28 -0400 (Thu, 02 Oct 2025) EndedAt: 2025-10-02 12:01:57 -0400 (Thu, 02 Oct 2025) EllapsedTime: 29.1 seconds RetCode: 0 Status: OK CheckDir: Affymoe4302Expr.Rcheck Warnings: 0