Package: Affyhgu133aExpr Version: 1.47.0 Command: /home/biocbuild/bbs-3.22-bioc/R/bin/R CMD check --install=check:Affyhgu133aExpr.install-out.txt --library=/home/biocbuild/bbs-3.22-bioc/R/site-library --timings Affyhgu133aExpr_1.47.0.tar.gz StartedAt: 2025-10-09 12:01:48 -0400 (Thu, 09 Oct 2025) EndedAt: 2025-10-09 12:02:13 -0400 (Thu, 09 Oct 2025) EllapsedTime: 25.0 seconds RetCode: 0 Status: OK CheckDir: Affyhgu133aExpr.Rcheck Warnings: 0