Package: AWAggregatorData Version: 0.99.4 Command: /home/biocbuild/bbs-3.22-bioc/R/bin/R CMD INSTALL AWAggregatorData StartedAt: 2025-09-25 10:57:02 -0400 (Thu, 25 Sep 2025) EndedAt: 2025-09-25 10:57:15 -0400 (Thu, 25 Sep 2025) EllapsedTime: 13.1 seconds RetCode: 0 Status: OK