Package: scAnnotatR.models Version: 0.99.10 Command: /home/biocbuild/bbs-3.22-bioc/R/bin/R CMD check --install=check:scAnnotatR.models.install-out.txt --library=/home/biocbuild/bbs-3.22-bioc/R/site-library --timings scAnnotatR.models_0.99.10.tar.gz StartedAt: 2025-10-15 06:00:25 -0400 (Wed, 15 Oct 2025) EndedAt: 2025-10-15 06:01:24 -0400 (Wed, 15 Oct 2025) EllapsedTime: 59.3 seconds RetCode: 0 Status: OK CheckDir: scAnnotatR.models.Rcheck Warnings: 0