Package: phastCons30way.UCSC.hg38 Version: 3.13.1 Command: /home/biocbuild/bbs-3.22-bioc/R/bin/R CMD check --install=check:phastCons30way.UCSC.hg38.install-out.txt --library=/home/biocbuild/bbs-3.22-bioc/R/site-library --timings phastCons30way.UCSC.hg38_3.13.1.tar.gz StartedAt: 2025-09-24 06:00:15 -0400 (Wed, 24 Sep 2025) EndedAt: 2025-09-24 06:01:19 -0400 (Wed, 24 Sep 2025) EllapsedTime: 63.7 seconds RetCode: 0 Status: OK CheckDir: phastCons30way.UCSC.hg38.Rcheck Warnings: 0