Package: org.Mxanthus.db Version: 1.0.27 Command: /home/biocbuild/bbs-3.22-bioc/R/bin/R CMD INSTALL org.Mxanthus.db StartedAt: 2025-10-15 05:55:09 -0400 (Wed, 15 Oct 2025) EndedAt: 2025-10-15 05:55:25 -0400 (Wed, 15 Oct 2025) EllapsedTime: 16.7 seconds RetCode: 0 Status: OK